BEGIN:VCALENDAR
PRODID:-//Microsoft Corporation//Outlook 12.0 MIMEDIR//EN
VERSION:2.0
CALSCALE:GREGORIAN
BEGIN:VEVENT
UID: 0f105c43-962b-4521-b188-2f264ddaa305
SUMMARY:Õppekäik Matsalu rahvusparki
DTSTAMP:20180927T090000
DTSTART:20180927T090000
DTEND:20180927T150000
LOCATION:
DESCRIPTION: <p>	2., 3. ja 4. klassi õppekäik Matsalu rahvuspargi looduskeskusesse. Läbitakse õppeprogramm "<a href="https://loodusegakoos.ee/metsakool/16847">Kured lähevad, kurjad ilmad...</a>"</p><p><strong>Link: </strong>https://www.kabala.edu.ee/et/sundmuste-kalender/oppekaik-matsalu-rahvusparki-0</p><p><strong>Hind: </strong></p>
STATUS:CONFIRMED
SEQUENCE:3
X-ALT-DESC;FMTTYPE=text/html:<p>	2., 3. ja 4. klassi õppekäik Matsalu rahvuspargi looduskeskusesse. Läbitakse õppeprogramm "<a href="https://loodusegakoos.ee/metsakool/16847">Kured lähevad, kurjad ilmad...</a>"</p><p><strong>Link: </strong>https://www.kabala.edu.ee/et/sundmuste-kalender/oppekaik-matsalu-rahvusparki-0</p><p><strong>Hind: </strong></p>
X-MICROSOFT-CDO-BUSYSTATUS:OOF
X-MICROSOFT-CDO-IMPORTANCE:1
X-MICROSOFT-DISALLOW-COUNTER:FALSE
X-MS-OLK-ALLOWEXTERNCHECK:TRUE
X-MS-OLK-CONFTYPE:0
X-MICROSOFT-CDO-ALLDAYEVENT:
X-MICROSOFT-MSNCALENDAR-ALLDAYEVENT:
END:VEVENT
END:VCALENDAR