BEGIN:VCALENDAR
PRODID:-//Microsoft Corporation//Outlook 12.0 MIMEDIR//EN
VERSION:2.0
CALSCALE:GREGORIAN
BEGIN:VEVENT
UID: aa73e4b6-cbd6-4227-9c49-d25288a466d7
SUMMARY:1.-6. klassi õppekäik Tallinna Loomaaeda
DTSTAMP:20190510T083500
DTSTART:20190510T083500
DTEND:20190510T235900
LOCATION:
DESCRIPTION: <p>	1.-6. klassi õppekäik Tallinna Loomaaeda. 4.-6. klassile haridusprogramm "Vesi kui elukeskkond". Programmi toetab KIK.</p><p><strong>Link: </strong>https://www.kabala.edu.ee/et/sundmuste-kalender/1-6-klassi-oppekaik-tallinna-loomaaeda</p><p><strong>Hind: </strong></p>
STATUS:CONFIRMED
SEQUENCE:3
X-ALT-DESC;FMTTYPE=text/html:<p>	1.-6. klassi õppekäik Tallinna Loomaaeda. 4.-6. klassile haridusprogramm "Vesi kui elukeskkond". Programmi toetab KIK.</p><p><strong>Link: </strong>https://www.kabala.edu.ee/et/sundmuste-kalender/1-6-klassi-oppekaik-tallinna-loomaaeda</p><p><strong>Hind: </strong></p>
X-MICROSOFT-CDO-BUSYSTATUS:OOF
X-MICROSOFT-CDO-IMPORTANCE:1
X-MICROSOFT-DISALLOW-COUNTER:FALSE
X-MS-OLK-ALLOWEXTERNCHECK:TRUE
X-MS-OLK-CONFTYPE:0
X-MICROSOFT-CDO-ALLDAYEVENT:
X-MICROSOFT-MSNCALENDAR-ALLDAYEVENT:
END:VEVENT
END:VCALENDAR