BEGIN:VCALENDAR
PRODID:-//Microsoft Corporation//Outlook 12.0 MIMEDIR//EN
VERSION:2.0
CALSCALE:GREGORIAN
BEGIN:VEVENT
UID: 3892d588-8b82-4e2c-b393-c48a9c66aac9
SUMMARY:Vestlusõhtu lastevanematega
DTSTAMP:20220412T180000
DTSTART:20220412T180000
DTEND:20220412T190000
LOCATION:
DESCRIPTION: <p>	<a href="/et/sundmuste-kalender/vestlusohtu-lastevanematega" target="_blank">Vestlusõhtu lastevanematega</a>&nbsp;&nbsp;kell 18-19 ikka <a href="http://meet.google.com/aoa-vwfb-pki" target="_blank">google meetis</a></p><p>	Arutelu teemad:</p><p>	Kabala Lasteaed-Põhikooli uue arengukava koostamine</p><p>	Arendustegevused lasteaia rühmades</p><p>	Uued töötajad (kehalise kasvatuse õpetaja, tehnoloogia- ja tööõpetuse õpetaja, asendusõpetaja)</p><p>	Tervist Edendava Kooli tegevused</p><p><strong>Link: </strong>https://www.kabala.edu.ee/et/sundmuste-kalender/vestlusohtu-lastevanematega</p><p><strong>Hind: </strong></p>
STATUS:CONFIRMED
SEQUENCE:3
X-ALT-DESC;FMTTYPE=text/html:<p>	<a href="/et/sundmuste-kalender/vestlusohtu-lastevanematega" target="_blank">Vestlusõhtu lastevanematega</a>&nbsp;&nbsp;kell 18-19 ikka <a href="http://meet.google.com/aoa-vwfb-pki" target="_blank">google meetis</a></p><p>	Arutelu teemad:</p><p>	Kabala Lasteaed-Põhikooli uue arengukava koostamine</p><p>	Arendustegevused lasteaia rühmades</p><p>	Uued töötajad (kehalise kasvatuse õpetaja, tehnoloogia- ja tööõpetuse õpetaja, asendusõpetaja)</p><p>	Tervist Edendava Kooli tegevused</p><p><strong>Link: </strong>https://www.kabala.edu.ee/et/sundmuste-kalender/vestlusohtu-lastevanematega</p><p><strong>Hind: </strong></p>
X-MICROSOFT-CDO-BUSYSTATUS:OOF
X-MICROSOFT-CDO-IMPORTANCE:1
X-MICROSOFT-DISALLOW-COUNTER:FALSE
X-MS-OLK-ALLOWEXTERNCHECK:TRUE
X-MS-OLK-CONFTYPE:0
X-MICROSOFT-CDO-ALLDAYEVENT:
X-MICROSOFT-MSNCALENDAR-ALLDAYEVENT:
END:VEVENT
END:VCALENDAR